BEGIN:VCALENDAR
VERSION:2.0
PRODID:-//VOCAL - ECPv4.6.19//NONSGML v1.0//EN
CALSCALE:GREGORIAN
METHOD:PUBLISH
X-WR-CALNAME:VOCAL
X-ORIGINAL-URL:https://www.vocal.org.uk
X-WR-CALDESC:Events for VOCAL
BEGIN:VEVENT
DTSTART;VALUE=DATE:20180701
DTEND;VALUE=DATE:20180702
DTSTAMP:20180623T103115
CREATED:20180124T155859Z
LAST-MODIFIED:20180418T130908Z
UID:4981-1530403200-1530489599@www.vocal.org.uk
SUMMARY:Forth Bridge Abseil
DESCRIPTION:The Rotary Club of South Queensferry abseil will take place on Sunday 1 July 2018! \nWe are seeking brave individuals and teams to take on the challenge to support VOCAL and unpaid carers. \nWhether you want to take on the abseil challenge solo or as part of a team we would welcome your support. Last year we raised a fantastic £10\,000 for carers through the abseil and this year we are hoping to smash this total! \nYour sponsorship will make a real difference and could fund initiatives such as a carer gardening group\, mini bus for day trips\, a craft group or digital facilities for carers. \nDo you have what it takes to abseil 165ft from the Forth Rail Bridge? \nWould you like to do something amazing to support unpaid carers? \nRegister here \nNo previous abseiling experience\nMust be over 16 years old\n£150 minimum sponsorship\n£30 non-refundable registration fee \n
URL:https://www.vocal.org.uk/event/forth-rail-bridge-abseil/
LOCATION:Newhalls Road\, Edinburgh\, EH309TA\, United Kingdom
GEO:55.9901906;-3.3863256
X-APPLE-STRUCTURED-LOCATION;VALUE=URI;X-ADDRESS=Newhalls Road Edinburgh EH309TA United Kingdom;X-APPLE-RADIUS=500;X-TITLE=Newhalls Road:geo:-3.3863256,55.9901906
CATEGORIES:All Events
ATTACH;FMTTYPE=image/jpeg:https://www.vocal.org.uk/wp-content/uploads/2015/12/Abseil-9127_crop.jpg
ORGANIZER;CN="VOCAL":MAILTO:fundraising@vocal.org.uk
END:VEVENT
BEGIN:VEVENT
DTSTART;VALUE=DATE:20180706
DTEND;VALUE=DATE:20180707
DTSTAMP:20180623T103115
CREATED:20180418T124935Z
LAST-MODIFIED:20180418T130552Z
UID:5466-1530835200-1530921599@www.vocal.org.uk
SUMMARY:Fundraising Collection
DESCRIPTION:VOCAL will be collecting at Tesco in Colinton from 10am-4pm. We will also have a stall with leaflets and information on our carer support services. \nCould you help us by volunteering on the day? \nWe are looking for people to ‘shake a bucket’ from: \n10am-12pm \n12pm-2pm \n2pm-4pm \nEverything will be set up for you and you will be partnered with a member of VOCAL staff or another volunteer during your time slot. \nIf you are interested in volunteering then contact Francesca on fundraising@vocal.org.uk or 0131 622 6666 \n
URL:https://www.vocal.org.uk/event/fundraising-collection-colinton/
LOCATION:Colinton Mains Dr\, Edinburgh\, EH13 9AH\, United Kingdom
GEO:55.9104626;-3.2368419
X-APPLE-STRUCTURED-LOCATION;VALUE=URI;X-ADDRESS=Colinton Mains Dr Edinburgh EH13 9AH United Kingdom;X-APPLE-RADIUS=500;X-TITLE=Colinton Mains Dr:geo:-3.2368419,55.9104626
CATEGORIES:All Events
ATTACH;FMTTYPE=image/jpeg:https://www.vocal.org.uk/wp-content/uploads/2018/02/IMG_20170728_115741.jpg
ORGANIZER;CN="VOCAL":MAILTO:fundraising@vocal.org.uk
END:VEVENT
BEGIN:VEVENT
DTSTART;VALUE=DATE:20180728
DTEND;VALUE=DATE:20180729
DTSTAMP:20180623T103115
CREATED:20180212T102928Z
LAST-MODIFIED:20180212T125815Z
UID:5179-1532736000-1532822399@www.vocal.org.uk
SUMMARY:Fundraising Bag Pack
DESCRIPTION:VOCAL will be bag packing at Tesco in Dalkeith from 10am-4pm. \nCould you help us by volunteering on the day? \nYou will be at the main checkouts with a team of other volunteers helping customers to pack their bags! You will be given a VOCAL t-shirt to wear and there will be a collection bucket at every checkout. \nWe are looking for people to bag pack from: \n10am-12pm \n12pm-2pm \n2pm-4pm \nAll funds raised will support VOCAL Midlothian. \nIf you are interested in volunteering then contact Francesca on fundraising@vocal.org.uk or 0131 622 6666 \n
URL:https://www.vocal.org.uk/event/bag-packing/
LOCATION:Bonnyrigg Road\, Dalkeith\, EH22 3PP
GEO:55.8855768;-3.0848345
X-APPLE-STRUCTURED-LOCATION;VALUE=URI;X-ADDRESS=Bonnyrigg Road Dalkeith EH22 3PP;X-APPLE-RADIUS=500;X-TITLE=Bonnyrigg Road:geo:-3.0848345,55.8855768
CATEGORIES:All Events
ATTACH;FMTTYPE=image/jpeg:https://www.vocal.org.uk/wp-content/uploads/2018/02/iStock-140009827.jpg
ORGANIZER;CN="VOCAL":MAILTO:fundraising@vocal.org.uk
END:VEVENT
BEGIN:VEVENT
DTSTART;VALUE=DATE:20180729
DTEND;VALUE=DATE:20180730
DTSTAMP:20180623T103115
CREATED:20180206T161434Z
LAST-MODIFIED:20180212T124742Z
UID:5140-1532822400-1532908799@www.vocal.org.uk
SUMMARY:Big Fun Run
DESCRIPTION:This untimed 5K is all about fun and is the perfect event to start your fitness journey! You can walk\, jog\, skip\, push a buggie – whatever you like! \nThe run in Holyrood Park is suitable for all the family (under 5’s go free!) where you can accomplish your personal goals; whether you are raising money for a worthwhile cause close to your heart\, remembering a loved one or simply keeping active. \nVOCAL are offering FREE places to individuals who support and raise sponsorship for us in the Big Fun Run. \n Register here \n
URL:https://www.vocal.org.uk/event/big-fun-run/
LOCATION:Queen's Drive\, Edinburgh\, EH8 8HG\, United Kingdom
GEO:55.9514908;-3.1666043
X-APPLE-STRUCTURED-LOCATION;VALUE=URI;X-ADDRESS=Queen's Drive Edinburgh EH8 8HG United Kingdom;X-APPLE-RADIUS=500;X-TITLE=Queen's Drive:geo:-3.1666043,55.9514908
CATEGORIES:All Events
ATTACH;FMTTYPE=image/jpeg:https://www.vocal.org.uk/wp-content/uploads/2018/02/Big-Fun-Run-2013-114.jpg
ORGANIZER;CN="VOCAL":MAILTO:fundraising@vocal.org.uk
END:VEVENT
BEGIN:VEVENT
DTSTART;VALUE=DATE:20180729
DTEND;VALUE=DATE:20180730
DTSTAMP:20180623T103115
CREATED:20180430T113325Z
LAST-MODIFIED:20180430T113325Z
UID:5515-1532822400-1532908799@www.vocal.org.uk
SUMMARY:Dog Jog
DESCRIPTION:The Dog Jog is a unique 5k jogging events for you and your dog to get fit and have fun. Each event offers a relaxed and fun atmosphere with no times and no pressure. They are also a great opportunity to meet like-minded dog owners in your area. Plus what’s more\, when you cross the finish line you’ll receive a fantastic Doggy Bag jam-packed with goodies for both you and your dog\, as well as Dog Jog Collar Keyring medal!  \n\nStart time: 2pm\nAll ages and dogs welcome\nFree place for VOCAL supporters\n\n Run for VOCAL\n
URL:https://www.vocal.org.uk/event/dog-jog/
LOCATION:Queen's Drive\, Edinburgh\, EH8 8HG\, United Kingdom
GEO:55.9514908;-3.1666043
X-APPLE-STRUCTURED-LOCATION;VALUE=URI;X-ADDRESS=Queen's Drive Edinburgh EH8 8HG United Kingdom;X-APPLE-RADIUS=500;X-TITLE=Queen's Drive:geo:-3.1666043,55.9514908
ATTACH;FMTTYPE=image/jpeg:https://www.vocal.org.uk/wp-content/uploads/2018/04/Edinburgh-Dog-Jog-2016-016.jpg
ORGANIZER;CN="VOCAL":MAILTO:fundraising@vocal.org.uk
END:VEVENT
BEGIN:VEVENT
DTSTART;TZID=Europe/London:20180815T193000
DTEND;TZID=Europe/London:20180815T210000
DTSTAMP:20180623T103115
CREATED:20180430T103720Z
LAST-MODIFIED:20180430T103828Z
UID:5491-1534361400-1534366800@www.vocal.org.uk
SUMMARY:Benefit Gig
DESCRIPTION:America’s Diversity in Song \nPeter Allen\, baritone \nPaul Machlin\, piano \nBroadway\, jazz\, folk song\, classical! This appealing mix of American 20th-century song\, sung by Peter Allen\, whose “rich\, rounded baritone” is supported by Paul Machlin’s “subtle coloration” (Allan Kozinn\, Portland Press Heard)\, reflects America’s broad diversity of heritages and cultures as represented by its composers. The featured works by Copland\, Kern\, Ellington\, Ives\, Weill and Burleigh – demonstrate how diversity enriches and strengthens America’s music. These songs will beguile listeners of every background! \nAll profits from this Fringe benefit gig will be donated to the Edinburgh Carers’ Hub. \nTickets cost £10 for an adult or £8 for a concession. \n Buy tickets \n  \n
URL:https://www.vocal.org.uk/event/benefit-gig/
LOCATION:13-17 George Street\, Edinburgh\, EH22PA\, United Kingdom
GEO:55.9541358;-3.1958748
X-APPLE-STRUCTURED-LOCATION;VALUE=URI;X-ADDRESS=13-17 George Street Edinburgh EH22PA United Kingdom;X-APPLE-RADIUS=500;X-TITLE=13-17 George Street:geo:-3.1958748,55.9541358
CATEGORIES:All Events
ATTACH;FMTTYPE=image/jpeg:https://www.vocal.org.uk/wp-content/uploads/2018/04/Machlin-Allen.jpg
ORGANIZER;CN="VOCAL":MAILTO:fundraising@vocal.org.uk
END:VEVENT
BEGIN:VEVENT
DTSTART;VALUE=DATE:20180817
DTEND;VALUE=DATE:20180818
DTSTAMP:20180623T103115
CREATED:20180418T125916Z
LAST-MODIFIED:20180418T130440Z
UID:5470-1534464000-1534550399@www.vocal.org.uk
SUMMARY:Fundraising Collection
DESCRIPTION:VOCAL will be collecting at Tesco South Queensferry from 10am-4pm. We will also have a stall with leaflets and information on our carer support services. \nCould you help us by volunteering on the day? \nWe are looking for people to ‘shake a bucket’ from: \n10am-12pm \n12pm-2pm \n2pm-4pm \nEverything will be set up for you and you will be partnered with a member of VOCAL staff or another volunteer during your time slot. \nIf you are interested in volunteering then contact Francesca on fundraising@vocal.org.uk or 0131 622 6666 \n
URL:https://www.vocal.org.uk/event/fundraising-collection-southqueensferry/
LOCATION:Ferrymuir\, South Queensferry\, Edinburgh\, EH30 9QZ
GEO:55.9830676;-3.3985767
X-APPLE-STRUCTURED-LOCATION;VALUE=URI;X-ADDRESS=Ferrymuir South Queensferry Edinburgh EH30 9QZ;X-APPLE-RADIUS=500;X-TITLE=Ferrymuir\, South Queensferry:geo:-3.3985767,55.9830676
ATTACH;FMTTYPE=image/jpeg:https://www.vocal.org.uk/wp-content/uploads/2018/02/Tesco-Corstorphine.jpg
ORGANIZER;CN="VOCAL":MAILTO:fundraising@vocal.org.uk
END:VEVENT
BEGIN:VEVENT
DTSTART;VALUE=DATE:20180916
DTEND;VALUE=DATE:20180917
DTSTAMP:20180623T103115
CREATED:20180206T143300Z
LAST-MODIFIED:20180212T132727Z
UID:5099-1537056000-1537142399@www.vocal.org.uk
SUMMARY:Kiltwalk
DESCRIPTION:Would you like to increase your fitness and walk more in 2018? \nSet yourself the target of walking 6\, 13 or 26 miles in the Edinburgh Kiltwalk on the 16th September. The Kiltwalk is not a race\, or timed and is inclusive to all abilities. It’s a great day out for all the family! \nWe are encouraging individuals and teams to walk the Kiltwalk for VOCAL and carers. \nThe sponsorship you raise will be worth 40% more to VOCAL through the kindness of The Hunter Foundation. \n Sign up here \nFor more information\, please get in contact with Francesca at fundraising@vocal.org.uk or 0131 622 6666 \n
URL:https://www.vocal.org.uk/event/kiltwalk/
CATEGORIES:All Events
ATTACH;FMTTYPE=image/jpeg:https://www.vocal.org.uk/wp-content/uploads/2018/02/IMG_20170917_170115.jpg
ORGANIZER;CN="VOCAL":MAILTO:fundraising@vocal.org.uk
END:VEVENT
BEGIN:VEVENT
DTSTART;VALUE=DATE:20180923
DTEND;VALUE=DATE:20180924
DTSTAMP:20180623T103115
CREATED:20180212T122752Z
LAST-MODIFIED:20180212T124636Z
UID:5198-1537660800-1537747199@www.vocal.org.uk
SUMMARY:Scottish Half Marathon
DESCRIPTION:The route is seriously flat & rapid – if you want to set a personal best for a half marathon\, then this is the event for you. Starting conveniently at 11am just outside Edinburgh\, you will run along the magnificent East Lothian Golf Coast before finishing in the final furlong at Musselburgh Racecourse; Scotland’s oldest racecourse. \nVOCAL are offering FREE places in the Scottish Half Marathon. \nAll we ask is that you commit to raising £250 sponsorship for VOCAL. \n Sign up here \nFor further information\, please contact Francesca at fundraising@vocal.org.uk or 0131 622 6666 \n  \n
URL:https://www.vocal.org.uk/event/scottish-half-marathon/
LOCATION:Tranent\, EH33 1LZ\, United Kingdom
GEO:55.9566656;-2.9562465
CATEGORIES:All Events
ATTACH;FMTTYPE=image/jpeg:https://www.vocal.org.uk/wp-content/uploads/2018/02/2017-Scottish-10K-049.jpg
ORGANIZER;CN="VOCAL":MAILTO:fundraising@vocal.org.uk
END:VEVENT
BEGIN:VEVENT
DTSTART;VALUE=DATE:20180923
DTEND;VALUE=DATE:20180924
DTSTAMP:20180623T103115
CREATED:20180212T123252Z
LAST-MODIFIED:20180212T124143Z
UID:5203-1537660800-1537747199@www.vocal.org.uk
SUMMARY:Scottish 10K
DESCRIPTION:The route starts and finishes just outside Edinburgh at Musselburgh Racecourse.  You will follow the final section of the seriously flat and rapid Scottish Half Marathon route\, running along the magnificent Golf Coast before finishing in the final furlong at Musselburgh Racecourse; Scotland’s oldest racecourse. Come and be a part of it! \nVOCAL have FREE places in the Scottish 10K. \nAll we ask is that you raise awareness and sponsorship for VOCAL. \n Register here \nFor further information\, please contact Francesca at fundraising@vocal.org.uk or 0131 622 6666 \n
URL:https://www.vocal.org.uk/event/scottish-10k/
LOCATION:Musselburgh\, EH21 7RG.\, United Kingdom
GEO:55.9457793;-3.0432431
CATEGORIES:All Events
ATTACH;FMTTYPE=image/jpeg:https://www.vocal.org.uk/wp-content/uploads/2018/02/Scottish-Half-Marathon-2017-105.jpg
ORGANIZER;CN="VOCAL":MAILTO:fundraising@vocal.org.uk
END:VEVENT
BEGIN:VEVENT
DTSTART;VALUE=DATE:20181104
DTEND;VALUE=DATE:20181105
DTSTAMP:20180623T103115
CREATED:20180212T121939Z
LAST-MODIFIED:20180212T124536Z
UID:5208-1541289600-1541375999@www.vocal.org.uk
SUMMARY:Men's 10K
DESCRIPTION:This 10K Starts on the historic Royal Mile then goes past the Scott Monument and swoops past the Scottish Parliament building\, before carrying onto Holyrood Park. Here you take in the spectacular Arthurs Seat before heading on to the Grassmarket. As you reach the hustle and bustle of the Grassmarket you’re past the halfway point\, where the cheering crowds will help you on your way to a grandstand finish at BT Murrayfield Stadium. \nVOCAL have FREE places in the Men’s 10K Edinburgh: \n Sign up here \nFor further information\, please contact Francesca at fundraising@vocal.org.uk or 0131 622 6666 \n
URL:https://www.vocal.org.uk/event/mens-10k/
LOCATION:Edinburgh\, EH1 2NG\, United Kingdom
GEO:55.9489652;-3.201478
CATEGORIES:All Events
ATTACH;FMTTYPE=image/jpeg:https://www.vocal.org.uk/wp-content/uploads/2018/02/Mens-10K-–-Digital-9178.jpg
ORGANIZER;CN="VOCAL":MAILTO:fundraising@vocal.org.uk
END:VEVENT
BEGIN:VEVENT
DTSTART;VALUE=DATE:20181109
DTEND;VALUE=DATE:20181112
DTSTAMP:20180623T103115
CREATED:20180212T120910Z
LAST-MODIFIED:20180212T124329Z
UID:5189-1541721600-1541980799@www.vocal.org.uk
SUMMARY:Supernova Run
DESCRIPTION:This fantastic 5K route is a great opportunity to explore the home of two 30-metre high horses! The Kelpies are mythical creatures who love to play at dusk\, each one weighs over 300 tonnes. Come and immerse yourself in a light journey with them. \nThere are three dates to choose from: \nFriday 9th Nov at 8pm \nSaturday 10th Nov at 7pm \nSunday 11th Nov at 5pm \nWe are offering FREE places to individuals taking part in the Supernova Run. \nAll we ask is that you raise awareness and raise sponsorship for VOCAL. \n Register here \nFor further information\, please contact Francesca at fundraising@vocal.org.uk or 0131 622 6666 \n  \n
URL:https://www.vocal.org.uk/event/supernova-run/
LOCATION:The Helix\, Falkirk\, FK2 7ZT
GEO:56.0191783;-3.7554862
X-APPLE-STRUCTURED-LOCATION;VALUE=URI;X-ADDRESS=The Helix Falkirk FK2 7ZT;X-APPLE-RADIUS=500;X-TITLE=The Helix:geo:-3.7554862,56.0191783
CATEGORIES:All Events
ATTACH;FMTTYPE=image/jpeg:https://www.vocal.org.uk/wp-content/uploads/2018/02/Kelpies-2015.jpg
ORGANIZER;CN="VOCAL":MAILTO:fundraising@vocal.org.uk
END:VEVENT
END:VCALENDAR